BEGIN:VCALENDAR
VERSION:2.0
PRODID:-//Gallery One - ECPv4.5.7//NONSGML v1.0//EN
CALSCALE:GREGORIAN
METHOD:PUBLISH
X-WR-CALNAME:Gallery One
X-ORIGINAL-URL:http://www.galleryone.org.au
X-WR-CALDESC:Events for Gallery One
BEGIN:VEVENT
DTSTART;VALUE=DATE:20190222
DTEND;VALUE=DATE:20190315
DTSTAMP:20190301T163746
CREATED:20190214T003033Z
LAST-MODIFIED:20190214T015838Z
UID:1699-1550793600-1552694399@www.galleryone.org.au
SUMMARY:ERIC HUDSON WATERCOLOURS
DESCRIPTION:You are cordially invited to the launch of an exhibition of Watercolour paintings by member of Gallery One  \nERIC HUDSON        \non Friday 22nd Feb 2019 at 6 pm \nExhibition 22nd February—15th March 2019 \nTuesday-Friday 10.00am-4.30pm \nExhibition Curator Marie Trebilcock\, Artist \nExhibition to be opened by Robert Zunic\, Artist and Art Educator \nEric started painting some 50 years ago as a counterbalance to a career in the hard uncompromising world of the UK construction industry. Initially he worked mainly in oils before converting to watercolours. Since moving to Australia 10 years ago he has worked exclusively in watercolours. His work covers a wide and varied range of subject matter including English and Australian landscapes\, cityscapes\, seascapes\, fishing boats\, images of Australia’s past\, cattle drovers\, swagmen\, bullock trains and wildlife. His interest in music\, Eric also plays piano\, is reflected in his many paintings of musicians and their instruments. Eric is a member of Gallery One and has regularly attended Wednesday Open Studio for a number of years. \n                                                                  \n \n
URL:http://www.galleryone.org.au/event/eric-hudson-watercolours/
LOCATION:1 Torrens Street\, Mitcham\, South Australia\, 5062\, Australia
CATEGORIES:Exhibitions
END:VEVENT
BEGIN:VEVENT
DTSTART;TZID=UTC+9.5:20190322T180000
DTEND;TZID=UTC+9.5:20190412T163000
DTSTAMP:20190301T163746
CREATED:20190214T040638Z
LAST-MODIFIED:20190215T041422Z
UID:1717-1553277600-1555086600@www.galleryone.org.au
SUMMARY:2019 Life @ Death Exhibition- VERONICA WIPES THE FACE OF JESUS
DESCRIPTION:\n\n\n\n\n\n\n\nLIFE @ DEATH 2019 -VERONICA WIPES THE FACE OF JESUS\nPhoto Credit: National Geographic Channels/ Gary Moyes) \n  \n  \n  \n  \n  \n  \n  \nLife@Death 2019 invites artists and interested people of all cultures and beliefs to make a contribution to a discussion around the theme “Veronica Wipes the Face of Jesus” . Download Dieter’s full essay on the theme Life@death 2109 – Veronica Wipes the Face of Jesus. \nOur artist in residence for 2019 is Tanya Voges – Dance Maker. Educator. Performer. We look forward to her creative contribution to the exhibition and discussion on our opening night.On 22nd March\, at the exhibition opening\, Tanya will perform a dance routine she created in Virtual Reality – painting in 3D space with virtual reality. \n\n\n\n\n\n\n\n\nThrough the Life@death 2019 exhibition\, Gallery One and Mitcham Village Uniting Church is giving artists the opportunity to create or choose an artwork or object that speaks into one of the station of the cross – “Veronica Wipes the Face of Jesus”. \nAlain de Botton Interview: Religion without God: Alain de Botton on “atheism 2.0.” \n\n\n\n\n\n\n\n\nREGISTRATION CLOSING ON 4th March 2019  \nArtists at all stages in their creative development are invited to apply to participate. Download the registration form here. \n\n\n\n\n\n\n\n\nWe are also pleased to have the sponsorship of Alfred James and  City of Mitcham-Mitcham Cultural Village and welcome their support of Life@Death’s commitment to discussing issues around death in our culture. \n  \n\n\n\n\n\n\n\n\n\n\n\n\n\n\n\n\n
URL:http://www.galleryone.org.au/event/2019-life-death-exhibition-veronica-wipes-face-jesus/
LOCATION:1 Torrens Street\, Mitcham\, South Australia\, 5062\, Australia
CATEGORIES:Exhibitions,For artists,Life and death
END:VEVENT
END:VCALENDAR